BEGIN:VCALENDAR
VERSION:2.0
PRODID:icalendar-ruby
CALSCALE:GREGORIAN
BEGIN:VEVENT
DTSTAMP:20210122T035852Z
UID:8652e63b-79a5-4c3f-8a57-859a5ef0882f
DTSTART;VALUE=DATE:20210223
DESCRIPTION:Property ID# 499959\, Time: 1:00PM
SUMMARY:Auction for 25 Moncur Drive
END:VEVENT
END:VCALENDAR
