BEGIN:VCALENDAR
VERSION:2.0
PRODID:icalendar-ruby
CALSCALE:GREGORIAN
BEGIN:VEVENT
DTSTAMP:20210122T035855Z
UID:1891f000-aaec-41cc-942f-f9bf02840073
DTSTART;VALUE=DATE:20201222
DESCRIPTION:Property ID# 497936\, Time: 4:00PM
SUMMARY:Auction for 
END:VEVENT
END:VCALENDAR
