BEGIN:VCALENDAR
VERSION:2.0
PRODID:icalendar-ruby
CALSCALE:GREGORIAN
BEGIN:VEVENT
DTSTAMP:20210122T035854Z
UID:8f8c0f19-24f7-421c-a3ab-047329cb45e7
DTSTART;VALUE=DATE:20201215
DESCRIPTION:Property ID# 496113\, Time: 4:00PM
SUMMARY:Auction for 32A Holland Street
END:VEVENT
END:VCALENDAR
