BEGIN:VCALENDAR
VERSION:2.0
PRODID:icalendar-ruby
CALSCALE:GREGORIAN
BEGIN:VEVENT
DTSTAMP:20210122T035857Z
UID:413b322f-a94b-4841-9de3-5ebdb2ec1123
DTSTART;VALUE=DATE:20201215
DESCRIPTION:Property ID# 496111\, Time: 4:00PM
SUMMARY:Auction for 
END:VEVENT
END:VCALENDAR
