BEGIN:VCALENDAR
VERSION:2.0
PRODID:icalendar-ruby
CALSCALE:GREGORIAN
BEGIN:VEVENT
DTSTAMP:20210122T035901Z
UID:202532e5-1034-4054-ae5f-4cf55943d641
DTSTART;VALUE=DATE:20201208
DESCRIPTION:Property ID# 495131\, Locatoin: Motion Entertainment\, 366 Te N
 gae Road\, Rotorua\, Time: 12:00PM
SUMMARY:Auction for 
END:VEVENT
END:VCALENDAR
