BEGIN:VCALENDAR
VERSION:2.0
PRODID:icalendar-ruby
CALSCALE:GREGORIAN
BEGIN:VEVENT
DTSTAMP:20210122T035904Z
UID:30753be5-d65b-4f19-a117-db998181a25b
DTSTART;VALUE=DATE:20201110
DESCRIPTION:Property ID# 492409\, Time: 1:00PM
SUMMARY:Auction for 
END:VEVENT
END:VCALENDAR
