BEGIN:VCALENDAR
VERSION:2.0
PRODID:icalendar-ruby
CALSCALE:GREGORIAN
BEGIN:VEVENT
DTSTAMP:20210122T035906Z
UID:7bc69188-52e7-4838-be2c-cc85a56a2d76
DTSTART;VALUE=DATE:20201014
DESCRIPTION:Property ID# 489862\, Locatoin: Bayleys Office\, 1092 Fenton St
 reet\, Rotorua\, Time: 12:00PM
SUMMARY:Auction for 
END:VEVENT
END:VCALENDAR
