BEGIN:VCALENDAR
VERSION:2.0
PRODID:icalendar-ruby
CALSCALE:GREGORIAN
BEGIN:VEVENT
DTSTAMP:20210122T035907Z
UID:74a6bd63-180a-4829-8385-65450fb78bc9
DTSTART;VALUE=DATE:20200922
DESCRIPTION:Property ID# 487934\, Time: 1:00PM
SUMMARY:Auction for 
END:VEVENT
END:VCALENDAR
