BEGIN:VCALENDAR
VERSION:2.0
PRODID:icalendar-ruby
CALSCALE:GREGORIAN
BEGIN:VEVENT
DTSTAMP:20210122T035910Z
UID:c34cd2b6-66ab-441f-a9f1-bd7e0ed96a06
DTSTART;VALUE=DATE:20200811
DESCRIPTION:Property ID# 485175\, Locatoin: Motion Entertainment\, 366 Te N
 gae Road\, Rotorua\, Time: 3:00PM
SUMMARY:Auction for 
END:VEVENT
END:VCALENDAR
